BEGIN:VCALENDAR
VERSION:2.0
PRODID:-//The Sabah Society - ECPv6.15.18//NONSGML v1.0//EN
CALSCALE:GREGORIAN
METHOD:PUBLISH
X-ORIGINAL-URL:https://thesabahsociety.com
X-WR-CALDESC:Events for The Sabah Society
REFRESH-INTERVAL;VALUE=DURATION:PT1H
X-Robots-Tag:noindex
X-PUBLISHED-TTL:PT1H
BEGIN:VTIMEZONE
TZID:Asia/Shanghai
BEGIN:STANDARD
TZOFFSETFROM:+0800
TZOFFSETTO:+0800
TZNAME:CST
DTSTART:20240101T000000
END:STANDARD
END:VTIMEZONE
BEGIN:VEVENT
DTSTART;TZID=Asia/Shanghai:20250926T000000
DTEND;TZID=Asia/Shanghai:20261231T235900
DTSTAMP:20260421T180836
CREATED:20250925T075313Z
LAST-MODIFIED:20250925T111608Z
UID:1771-1758844800-1798761540@thesabahsociety.com
SUMMARY:65th Anniversary Special Membership Promotion
DESCRIPTION:Great news for all current and new members! \nAs The Sabah Society marks its 65th Anniversary\, we are delighted to introduce a special membership promotion in celebration of this milestone. 🌿 \nThis exclusive offer begins at our Annual General Meeting (AGM) on 26 September 2025 and will remain available throughout the year 2026. It is the perfect time to join us and be part of our community dedicated to exploring\, learning\, and preserving the rich heritage and culture of Sabah. \n\nSpecial Anniversary Rates\n\n 	\nOrdinary Membership~RM 75~ now only RM 55  \n\n 	\nStudent Membership~RM 30~ now only RM 25 \n\n\n\n\nBecome A Member Today!\nWhy Join The Sabah Society?\n✔ Discover more about Sabah’s heritage\, culture\, history\, and natural wonders✔ Take part in talks\, field trips\, and activities that deepen your knowledge of our state✔ Support efforts to preserve and share the heritage of Sabah for generations to come \nAs we celebrate 65 years of “to know Sabah\,” we invite you to be part of this meaningful journey. Together\, let us continue to preserve our shared heritage and foster a deeper appreciation for Sabah’s culture and natural treasures. \n👉 Don’t miss this special anniversary promotion. Become a member today and celebrate 65 years of discovery with us! \n\n\n\n 
URL:https://thesabahsociety.com/event/65th-anniversary-special-membership-promotion/
LOCATION:The Sabah Society Secretariat\, Luyang\, Kota Kinabalu\, Sabah\, 88450\, Malaysia
CATEGORIES:Special Event
ATTACH;FMTTYPE=image/png:https://thesabahsociety.com/wp-content/uploads/2025/09/Sabah-Society_Special-Membership-Promotion.png
ORGANIZER;CN="The Sabah Society":MAILTO:sabahsoc@gmail.com
END:VEVENT
BEGIN:VEVENT
DTSTART;TZID=Asia/Shanghai:20251205T080000
DTEND;TZID=Asia/Shanghai:20251207T170000
DTSTAMP:20260421T180836
CREATED:20251003T074215Z
LAST-MODIFIED:20251019T101716Z
UID:2188-1764921600-1765126800@thesabahsociety.com
SUMMARY:Danum Valley Trip
DESCRIPTION:Experience the untouched beauty of Danum Valley on this guided trip—encounter exotic wildlife\, ancient rainforest\, and unique eco-adventures in Borneo.\n\nJoin an unforgettable Danum Valley trip and explore Borneo’s pristine rainforest\, rare wildlife\, and stunning landscapes. Perfect for nature lovers and adventurers.\n\n\nDue to election day coinciding with the original date of our Danum Valley trip\, the dates have been changed. Mark your calendar with the new dates: 05 Dec 2025 — 07 Dec 2025\n\n\n\n\n\n\n\n\n\n\n\n\n\n\nDon’t miss this opportunity to grab exclusive deals to Danum Valley only available for The Sabah Society! Normally RM 4\,450 per pax\, TSS have special rates for our members and those who join us only on this occasion. For triple sharing the price is as low as RM 1\,197 per pax.\n\n\n \n \n\n\n\n\n 
URL:https://thesabahsociety.com/event/danum-valley-trip/
LOCATION:Danum Valley Conservation area\, Malaysia
CATEGORIES:Field Trips
ATTACH;FMTTYPE=image/jpeg:https://thesabahsociety.com/wp-content/uploads/2025/10/NEW_TSS_SOCMED-POSTERS-2.jpg
ORGANIZER;CN="The Sabah Society":MAILTO:sabahsoc@gmail.com
END:VEVENT
BEGIN:VEVENT
DTSTART;TZID=Asia/Shanghai:20251210T200000
DTEND;TZID=Asia/Shanghai:20251210T220000
DTSTAMP:20260421T180836
CREATED:20251126T055823Z
LAST-MODIFIED:20251126T055938Z
UID:2291-1765396800-1765404000@thesabahsociety.com
SUMMARY:Implementing Totally Protected Species Action Plans: Intelligence\, Enforcement\, and Digital Innovation
DESCRIPTION:Goossens’ talk features the Danau Girang Field Centre’s work on consolidating the intelligence\, enforcement and prosecution capacity to mitigate wildlife crimes in Sabah. This is done through the establishment of specialised units such as the Intelligence Unit\, the Forensic Unit and the Rapid Response Teams for the Sabah Wildlife Department. Join us on Wednesday to hear more about what we can do to protect our wildlife in Sabah.
URL:https://thesabahsociety.com/event/implementing-totally-protected-species-action-plans-intelligence-enforcement-and-digital-innovation/
LOCATION:The Sabah Society Secretariat\, Luyang\, Kota Kinabalu\, Sabah\, 88450\, Malaysia
CATEGORIES:Talks
ATTACH;FMTTYPE=image/jpeg:https://thesabahsociety.com/wp-content/uploads/2025/11/Ben-Goossens-Talk-1.1.jpg
ORGANIZER;CN="The Sabah Society":MAILTO:sabahsoc@gmail.com
END:VEVENT
END:VCALENDAR