BEGIN:VCALENDAR
VERSION:2.0
PRODID:-//The Sabah Society - ECPv6.15.18//NONSGML v1.0//EN
CALSCALE:GREGORIAN
METHOD:PUBLISH
X-WR-CALNAME:The Sabah Society
X-ORIGINAL-URL:https://thesabahsociety.com
X-WR-CALDESC:Events for The Sabah Society
REFRESH-INTERVAL;VALUE=DURATION:PT1H
X-Robots-Tag:noindex
X-PUBLISHED-TTL:PT1H
BEGIN:VTIMEZONE
TZID:Asia/Shanghai
BEGIN:STANDARD
TZOFFSETFROM:+0800
TZOFFSETTO:+0800
TZNAME:CST
DTSTART:20240101T000000
END:STANDARD
END:VTIMEZONE
BEGIN:VEVENT
DTSTART;TZID=Asia/Shanghai:20250313T200000
DTEND;TZID=Asia/Shanghai:20250313T213000
DTSTAMP:20260419T224319
CREATED:20250228T011707Z
LAST-MODIFIED:20250228T011707Z
UID:1530-1741896000-1741901400@thesabahsociety.com
SUMMARY:Overriding MA63: The Malayan " Social Contract" | Datuk Dr Johan Ariffin
DESCRIPTION:Author of ‘Unequal Partners’ and ‘Revisiting the Social Contract’ – Datuk Dr Johan Ariffin. \nThe concept of a ‘social contract’ has been manipulated by Peninsular politicians to override the provisions of the Malaysia Agreement 1963 (MA63). This notion\, which was originally a quid pro quo arrangement among leaders of the three major communities (Malay\, Chinese\, Indians) during the formation of the Federation of Malaya\, has been politically weaponized to pressure non-Malays\, particularly those in Sabah and Sarawak\, into compliance. However\, the so-called social contract had no connection to the Borneo states. Over time\, it has been misapplied to these regions\, serving to entrench Malay hegemony under the guise of ‘Ketuanan Melayu.’ This distortion not only undermines the historical context but also perpetuates an inequitable narrative in Sabah and Sarawak.
URL:https://thesabahsociety.com/event/overriding-ma63-the-malayan-social-contract-datuk-dr-johan-ariffin/
LOCATION:The Sabah Society Secretariat\, Luyang\, Kota Kinabalu\, Sabah\, 88450\, Malaysia
CATEGORIES:Talks
ATTACH;FMTTYPE=image/jpeg:https://thesabahsociety.com/wp-content/uploads/2025/02/IMG-20250225-WA0014-scaled.jpg
END:VEVENT
BEGIN:VEVENT
DTSTART;TZID=Asia/Shanghai:20250327T200000
DTEND;TZID=Asia/Shanghai:20250327T213000
DTSTAMP:20260419T224319
CREATED:20250314T034300Z
LAST-MODIFIED:20250314T034716Z
UID:1534-1743105600-1743111000@thesabahsociety.com
SUMMARY:Montfort Youth Training Centre - Real life & Real skills for youth |  Thur 27 Mar
DESCRIPTION:Mr Joseph Tek Choon Yee\, Member of the Board of Governors of MYTC will talk on the history of MYTC and recount how MYTC equips youths from underprivileged backgrounds with skills gained through vocational training to make a better life for themselves.
URL:https://thesabahsociety.com/event/montfort-youth-training-centre-real-life-real-skills-for-youth-thur-27-mar/
LOCATION:The Sabah Society Secretariat\, Luyang\, Kota Kinabalu\, Sabah\, 88450\, Malaysia
CATEGORIES:Talks
ATTACH;FMTTYPE=image/jpeg:https://thesabahsociety.com/wp-content/uploads/2025/03/WhatsApp-Image-2025-03-14-at-11.35.20-AM.jpeg
END:VEVENT
END:VCALENDAR