BEGIN:VCALENDAR
VERSION:2.0
PRODID:-//The Sabah Society - ECPv6.15.18//NONSGML v1.0//EN
CALSCALE:GREGORIAN
METHOD:PUBLISH
X-ORIGINAL-URL:https://thesabahsociety.com
X-WR-CALDESC:Events for The Sabah Society
REFRESH-INTERVAL;VALUE=DURATION:PT1H
X-Robots-Tag:noindex
X-PUBLISHED-TTL:PT1H
BEGIN:VTIMEZONE
TZID:Asia/Shanghai
BEGIN:STANDARD
TZOFFSETFROM:+0800
TZOFFSETTO:+0800
TZNAME:CST
DTSTART:20230101T000000
END:STANDARD
END:VTIMEZONE
BEGIN:VEVENT
DTSTART;TZID=Asia/Shanghai:20241017T183000
DTEND;TZID=Asia/Shanghai:20241017T210000
DTSTAMP:20260419T204703
CREATED:20240918T021001Z
LAST-MODIFIED:20240918T021001Z
UID:1477-1729189800-1729198800@thesabahsociety.com
SUMMARY:Annual General Meeting 2024
DESCRIPTION:Dear members\,\n\nKindly please take note of our AGM which is on Thursday 17 Oct 2024 at 6.30pm. This will be followed by a talk at 8pm. More details on talk will be out soon.\n\nYour attendance is much appreciated as this will ensure that the Society will be able to move forward.\n\nA gentle reminder to all members to please renew your membership fees RM75 for voting eligibility.\n\nSee you.\n\nRachel Yee\n\nHonorary Secretary 2023-2024
URL:https://thesabahsociety.com/event/annual-general-meeting-2024/
LOCATION:The Sabah Society Secretariat\, Luyang\, Kota Kinabalu\, Sabah\, 88450\, Malaysia
CATEGORIES:AGM
ATTACH;FMTTYPE=image/jpeg:https://thesabahsociety.com/wp-content/uploads/2024/09/WhatsApp-Image-2024-09-18-at-09.08.29.jpeg
END:VEVENT
BEGIN:VEVENT
DTSTART;TZID=Asia/Shanghai:20241017T200000
DTEND;TZID=Asia/Shanghai:20241017T210000
DTSTAMP:20260419T204703
CREATED:20241016T045319Z
LAST-MODIFIED:20241016T045319Z
UID:1481-1729195200-1729198800@thesabahsociety.com
SUMMARY:The Artistic legacy of William Pretyman |  Mohd Shari
DESCRIPTION:The collections of scenic pencil sketches and watercolour of North Borneo made by William Pretyman\, the West Coast Resident at Tampasuk in the late 19th century (1878-1880).\n\nPictures are for sale on that night
URL:https://thesabahsociety.com/event/the-artistic-legacy-of-william-pretyman-mohd-shari/
LOCATION:The Sabah Society Secretariat\, Luyang\, Kota Kinabalu\, Sabah\, 88450\, Malaysia
CATEGORIES:Talks
ATTACH;FMTTYPE=image/jpeg:https://thesabahsociety.com/wp-content/uploads/2024/10/WhatsApp-Image-2024-10-15-at-08.54.35.jpeg
END:VEVENT
END:VCALENDAR