BEGIN:VCALENDAR
VERSION:2.0
PRODID:-//The Sabah Society - ECPv6.15.18//NONSGML v1.0//EN
CALSCALE:GREGORIAN
METHOD:PUBLISH
X-WR-CALNAME:The Sabah Society
X-ORIGINAL-URL:https://thesabahsociety.com
X-WR-CALDESC:Events for The Sabah Society
REFRESH-INTERVAL;VALUE=DURATION:PT1H
X-Robots-Tag:noindex
X-PUBLISHED-TTL:PT1H
BEGIN:VTIMEZONE
TZID:Asia/Shanghai
BEGIN:STANDARD
TZOFFSETFROM:+0800
TZOFFSETTO:+0800
TZNAME:CST
DTSTART:20230101T000000
END:STANDARD
END:VTIMEZONE
BEGIN:VEVENT
DTSTART;TZID=Asia/Shanghai:20240910T200000
DTEND;TZID=Asia/Shanghai:20240910T210000
DTSTAMP:20260419T222120
CREATED:20240830T031340Z
LAST-MODIFIED:20240830T031340Z
UID:1473-1725998400-1726002000@thesabahsociety.com
SUMMARY:Searching for Borneo in British Museums | Dr Jennifer Morris
DESCRIPTION:Dr Jennifer R. Morris is the Borneo Early Career Research Fellow in the Department of Asia at the British Museum. She is a historian and museologist trained at the universities of Cambridge\, Leicester and Singapore\, and specialises in the history of museums and collecting in Borneo. She has previously contributed towards the development of the Borneo Cultures Museum in Kuching as part of the Sarawak Museum Fellowship Programme\, and curated the virtual exhibition ‘Plant People: Unearthing Botany in Sarawak’ for the Friends of Sarawak Museum.t
URL:https://thesabahsociety.com/event/searching-for-borneo-in-british-museums-dr-jennifer-morris/
LOCATION:The Sabah Society Secretariat\, Luyang\, Kota Kinabalu\, Sabah\, 88450\, Malaysia
CATEGORIES:Talks
ATTACH;FMTTYPE=image/jpeg:https://thesabahsociety.com/wp-content/uploads/2024/08/WhatsApp-Image-2024-08-29-at-1.01.13-PM-scaled.jpeg
END:VEVENT
END:VCALENDAR