BEGIN:VCALENDAR
VERSION:2.0
PRODID:-//The Sabah Society - ECPv6.15.18//NONSGML v1.0//EN
CALSCALE:GREGORIAN
METHOD:PUBLISH
X-ORIGINAL-URL:https://thesabahsociety.com
X-WR-CALDESC:Events for The Sabah Society
REFRESH-INTERVAL;VALUE=DURATION:PT1H
X-Robots-Tag:noindex
X-PUBLISHED-TTL:PT1H
BEGIN:VTIMEZONE
TZID:Asia/Shanghai
BEGIN:STANDARD
TZOFFSETFROM:+0800
TZOFFSETTO:+0800
TZNAME:CST
DTSTART:20230101T000000
END:STANDARD
END:VTIMEZONE
BEGIN:VEVENT
DTSTART;TZID=Asia/Shanghai:20240725T200000
DTEND;TZID=Asia/Shanghai:20240725T213000
DTSTAMP:20260420T012957
CREATED:20240723T043221Z
LAST-MODIFIED:20240723T043221Z
UID:1459-1721937600-1721943000@thesabahsociety.com
SUMMARY:From Logged over denuded forest to Eden Garden |  Datuk Dr. Richard Gunting
DESCRIPTION:See you this Thursday at 8PM at The Secretariat Sabah Society.\n\n 
URL:https://thesabahsociety.com/event/from-logged-over-denuded-forest-to-eden-garden-datuk-dr-richard-gunting/
LOCATION:The Sabah Society Secretariat\, Luyang\, Kota Kinabalu\, Sabah\, 88450\, Malaysia
CATEGORIES:Talks
ATTACH;FMTTYPE=image/jpeg:https://thesabahsociety.com/wp-content/uploads/2024/07/WhatsApp-Image-2024-07-23-at-08.38.18.jpeg
END:VEVENT
END:VCALENDAR