BEGIN:VCALENDAR
VERSION:2.0
PRODID:-//The Sabah Society - ECPv6.15.18//NONSGML v1.0//EN
CALSCALE:GREGORIAN
METHOD:PUBLISH
X-ORIGINAL-URL:https://thesabahsociety.com
X-WR-CALDESC:Events for The Sabah Society
REFRESH-INTERVAL;VALUE=DURATION:PT1H
X-Robots-Tag:noindex
X-PUBLISHED-TTL:PT1H
BEGIN:VTIMEZONE
TZID:Asia/Shanghai
BEGIN:STANDARD
TZOFFSETFROM:+0800
TZOFFSETTO:+0800
TZNAME:CST
DTSTART:20240101T000000
END:STANDARD
END:VTIMEZONE
BEGIN:VEVENT
DTSTART;TZID=Asia/Shanghai:20250815T190000
DTEND;TZID=Asia/Shanghai:20250815T210000
DTSTAMP:20260420T020014
CREATED:20250811T051019Z
LAST-MODIFIED:20250813T035927Z
UID:1595-1755284400-1755291600@thesabahsociety.com
SUMMARY:Photo Exchange and Get-To-Know
DESCRIPTION:Join us this Friday (15 Aug 2025) for an evening of fellowship and remembrance of our Gaya Island Hike. We will be showcasing slides from the hike while facilitating a photo exchange amongst those who wish to share their photos with each other.
URL:https://thesabahsociety.com/event/photo-exchange-and-get-to-know/
LOCATION:The Sabah Society Secretariat\, Luyang\, Kota Kinabalu\, Sabah\, 88450\, Malaysia
CATEGORIES:Special Event
ATTACH;FMTTYPE=image/jpeg:https://thesabahsociety.com/wp-content/uploads/2025/08/Photo-Exchange-1.jpg
ORGANIZER;CN="The Sabah Society":MAILTO:sabahsoc@gmail.com
END:VEVENT
BEGIN:VEVENT
DTSTART;TZID=Asia/Shanghai:20250926T000000
DTEND;TZID=Asia/Shanghai:20261231T235900
DTSTAMP:20260420T020014
CREATED:20250925T075313Z
LAST-MODIFIED:20250925T111608Z
UID:1771-1758844800-1798761540@thesabahsociety.com
SUMMARY:65th Anniversary Special Membership Promotion
DESCRIPTION:Great news for all current and new members! \nAs The Sabah Society marks its 65th Anniversary\, we are delighted to introduce a special membership promotion in celebration of this milestone. 🌿 \nThis exclusive offer begins at our Annual General Meeting (AGM) on 26 September 2025 and will remain available throughout the year 2026. It is the perfect time to join us and be part of our community dedicated to exploring\, learning\, and preserving the rich heritage and culture of Sabah. \n\nSpecial Anniversary Rates\n\n 	\nOrdinary Membership~RM 75~ now only RM 55  \n\n 	\nStudent Membership~RM 30~ now only RM 25 \n\n\n\n\nBecome A Member Today!\nWhy Join The Sabah Society?\n✔ Discover more about Sabah’s heritage\, culture\, history\, and natural wonders✔ Take part in talks\, field trips\, and activities that deepen your knowledge of our state✔ Support efforts to preserve and share the heritage of Sabah for generations to come \nAs we celebrate 65 years of “to know Sabah\,” we invite you to be part of this meaningful journey. Together\, let us continue to preserve our shared heritage and foster a deeper appreciation for Sabah’s culture and natural treasures. \n👉 Don’t miss this special anniversary promotion. Become a member today and celebrate 65 years of discovery with us! \n\n\n\n 
URL:https://thesabahsociety.com/event/65th-anniversary-special-membership-promotion/
LOCATION:The Sabah Society Secretariat\, Luyang\, Kota Kinabalu\, Sabah\, 88450\, Malaysia
CATEGORIES:Special Event
ATTACH;FMTTYPE=image/png:https://thesabahsociety.com/wp-content/uploads/2025/09/Sabah-Society_Special-Membership-Promotion.png
ORGANIZER;CN="The Sabah Society":MAILTO:sabahsoc@gmail.com
END:VEVENT
BEGIN:VEVENT
DTSTART;TZID=Asia/Shanghai:20250926T183000
DTEND;TZID=Asia/Shanghai:20250926T220000
DTSTAMP:20260420T020014
CREATED:20250806T041155Z
LAST-MODIFIED:20250813T035830Z
UID:1590-1758911400-1758924000@thesabahsociety.com
SUMMARY:Annual General Meeting 2025
DESCRIPTION:Dear Sabah Society members\,\n\nWe would like to announce the details of the upcoming Annual General Meeting for 2025/2026 is as follows:\n\nDate: 26 September 2025 (Friday)\nTime: 6:30 pm\nVenue: The Sabah Society Secretariat\, Plaza Damai\n\nThe Sabah Society Committee 2024/25 will present and discuss past year AGM minutes\, financial reports\, and past events. The highlight will be the election of the Office Bearer and Committee Members for term 2025/2026.\n\nKindly renew annual membership to ensure voting rights. As per the Constitution\, life members and ordinary members (RM75) are eligible for voting. Student memberships (RM30) is reserved for observation. All members enjoy the benefits of subsidized fieldtrips and usage of The Sabah Society library at the Secretariat. Members will also receive a complimentary copy of the Sabah Society e-journal.\n\nWe greatly appreciate your continued support for The Sabah Society in living up to its motto: To Know Sabah. The Sabah Society is made up of volunteers such as yourselves. Let us all contribute to ensure the success of the society. Your attendance is very important in order to meet the quorum for an AGM.\n\nSincerely\,\nRachel Yee\nHonorary Secretary 2024/2026
URL:https://thesabahsociety.com/event/annual-general-meeting-2025/
LOCATION:The Sabah Society Secretariat\, Luyang\, Kota Kinabalu\, Sabah\, 88450\, Malaysia
CATEGORIES:AGM
ATTACH;FMTTYPE=image/jpeg:https://thesabahsociety.com/wp-content/uploads/2025/08/AGM-IG-POSTER-1.jpg
ORGANIZER;CN="The Sabah Society":MAILTO:sabahsoc@gmail.com
END:VEVENT
BEGIN:VEVENT
DTSTART;TZID=Asia/Shanghai:20250926T200000
DTEND;TZID=Asia/Shanghai:20250926T220000
DTSTAMP:20260420T020014
CREATED:20250923T030450Z
LAST-MODIFIED:20250923T030459Z
UID:1633-1758916800-1758924000@thesabahsociety.com
SUMMARY:Buaya Sabah: Guardians of Our Heritage & Rivers
DESCRIPTION:Sabah is home to the saltwater crocodile\, a species that has long shaped the ecology and culture of our rivers. Dr Sai Explores the biology and ecology of C. porosus in maintaining healthy ecosystems and our role in ensuring that crocodiles remain an enduring part of Sabah’s landscapes and identity.
URL:https://thesabahsociety.com/event/buaya-sabah-guardians-of-our-heritage-rivers/
LOCATION:The Sabah Society Secretariat\, Luyang\, Kota Kinabalu\, Sabah\, 88450\, Malaysia
ATTACH;FMTTYPE=image/jpeg:https://thesabahsociety.com/wp-content/uploads/2025/09/Dr-Sai-Talk-3.0.jpg
ORGANIZER;CN="The Sabah Society":MAILTO:sabahsoc@gmail.com
END:VEVENT
BEGIN:VEVENT
DTSTART;TZID=Asia/Shanghai:20251030T200000
DTEND;TZID=Asia/Shanghai:20251030T220000
DTSTAMP:20260420T020014
CREATED:20251016T141409Z
LAST-MODIFIED:20251016T141409Z
UID:2275-1761854400-1761861600@thesabahsociety.com
SUMMARY:The Land of The Disappearing Identity: Adaptability in The Sabahan Ethnic Landscape
DESCRIPTION:Sabah’s rich ethnic landscape is shifting. As traditions meet modern life\, what happens to identity? In this month’s talk\, we explore how Sabahans are adapting to cultural change and how and whether this truly affects ethnic identity. This eye-opening talk invites you to reflect on what it means to belong in a land where identity is both disappearing and transforming. Whether you’re Sabahan\, Malaysian\, or simply curious; come listen\, question\, and connect.
URL:https://thesabahsociety.com/event/the-land-of-the-disappearing-identity-adaptability-in-the-sabahan-ethnic-landscape/
LOCATION:The Sabah Society Secretariat\, Luyang\, Kota Kinabalu\, Sabah\, 88450\, Malaysia
CATEGORIES:Talks
ATTACH;FMTTYPE=image/jpeg:https://thesabahsociety.com/wp-content/uploads/2025/10/Trixie-Tangit-1.2.jpeg
ORGANIZER;CN="The Sabah Society":MAILTO:sabahsoc@gmail.com
END:VEVENT
BEGIN:VEVENT
DTSTART;TZID=Asia/Shanghai:20251113T200000
DTEND;TZID=Asia/Shanghai:20251113T220000
DTSTAMP:20260420T020014
CREATED:20251105T033137Z
LAST-MODIFIED:20251105T034822Z
UID:2282-1763064000-1763071200@thesabahsociety.com
SUMMARY:Bajau Laut: The Sea Is Our Home
DESCRIPTION:Bajau Laut: The Sea is Our Home is a poignant documentary by Joo Peter\, capturing the vanishing way of life and struggles of the sea-dwelling Bajau Laut in Semporna\, Sabah. The screening will last 63 minutes\, followed by a discussion with the film-maker on the social issues that affect the Bajau Laut. Join us on Thursday the 13th of November to understand the cultural identity and fragile maritime existence of the Bajau Laut.
URL:https://thesabahsociety.com/event/bajau-laut-the-sea-is-our-home/
LOCATION:The Sabah Society Secretariat\, Luyang\, Kota Kinabalu\, Sabah\, 88450\, Malaysia
CATEGORIES:Film Night,Talks
ATTACH;FMTTYPE=image/jpeg:https://thesabahsociety.com/wp-content/uploads/2025/11/Joo-Peter-2.0.jpg
ORGANIZER;CN="The Sabah Society":MAILTO:sabahsoc@gmail.com
END:VEVENT
BEGIN:VEVENT
DTSTART;TZID=Asia/Shanghai:20251205T080000
DTEND;TZID=Asia/Shanghai:20251207T170000
DTSTAMP:20260420T020014
CREATED:20251003T074215Z
LAST-MODIFIED:20251019T101716Z
UID:2188-1764921600-1765126800@thesabahsociety.com
SUMMARY:Danum Valley Trip
DESCRIPTION:Experience the untouched beauty of Danum Valley on this guided trip—encounter exotic wildlife\, ancient rainforest\, and unique eco-adventures in Borneo.\n\nJoin an unforgettable Danum Valley trip and explore Borneo’s pristine rainforest\, rare wildlife\, and stunning landscapes. Perfect for nature lovers and adventurers.\n\n\nDue to election day coinciding with the original date of our Danum Valley trip\, the dates have been changed. Mark your calendar with the new dates: 05 Dec 2025 — 07 Dec 2025\n\n\n\n\n\n\n\n\n\n\n\n\n\n\nDon’t miss this opportunity to grab exclusive deals to Danum Valley only available for The Sabah Society! Normally RM 4\,450 per pax\, TSS have special rates for our members and those who join us only on this occasion. For triple sharing the price is as low as RM 1\,197 per pax.\n\n\n \n \n\n\n\n\n 
URL:https://thesabahsociety.com/event/danum-valley-trip/
LOCATION:Danum Valley Conservation area\, Malaysia
CATEGORIES:Field Trips
ATTACH;FMTTYPE=image/jpeg:https://thesabahsociety.com/wp-content/uploads/2025/10/NEW_TSS_SOCMED-POSTERS-2.jpg
ORGANIZER;CN="The Sabah Society":MAILTO:sabahsoc@gmail.com
END:VEVENT
BEGIN:VEVENT
DTSTART;TZID=Asia/Shanghai:20251210T200000
DTEND;TZID=Asia/Shanghai:20251210T220000
DTSTAMP:20260420T020015
CREATED:20251126T055823Z
LAST-MODIFIED:20251126T055938Z
UID:2291-1765396800-1765404000@thesabahsociety.com
SUMMARY:Implementing Totally Protected Species Action Plans: Intelligence\, Enforcement\, and Digital Innovation
DESCRIPTION:Goossens’ talk features the Danau Girang Field Centre’s work on consolidating the intelligence\, enforcement and prosecution capacity to mitigate wildlife crimes in Sabah. This is done through the establishment of specialised units such as the Intelligence Unit\, the Forensic Unit and the Rapid Response Teams for the Sabah Wildlife Department. Join us on Wednesday to hear more about what we can do to protect our wildlife in Sabah.
URL:https://thesabahsociety.com/event/implementing-totally-protected-species-action-plans-intelligence-enforcement-and-digital-innovation/
LOCATION:The Sabah Society Secretariat\, Luyang\, Kota Kinabalu\, Sabah\, 88450\, Malaysia
CATEGORIES:Talks
ATTACH;FMTTYPE=image/jpeg:https://thesabahsociety.com/wp-content/uploads/2025/11/Ben-Goossens-Talk-1.1.jpg
ORGANIZER;CN="The Sabah Society":MAILTO:sabahsoc@gmail.com
END:VEVENT
BEGIN:VEVENT
DTSTART;TZID=Asia/Shanghai:20260122T200000
DTEND;TZID=Asia/Shanghai:20260122T220000
DTSTAMP:20260420T020015
CREATED:20260112T042551Z
LAST-MODIFIED:20260112T042734Z
UID:2301-1769112000-1769119200@thesabahsociety.com
SUMMARY:Beyond the Jungle: A Journey in Conservation
DESCRIPTION:In Yulinda’s presentation\, she will highlight remarkable flora and fauna discoveries from her work in Tawau\, share insights from her field research\, technical DSLR camera trap documentation\, and showcase her efforts in promoting Tawau as a destination for nature lovers through strong conservation-driven tourism initiatives. Her journey into conservation began unexpectedly. Growing up as a local Sabahan with little connection to nature\, she later developed a deep passion for wildlife and forests through hands-on field experience.
URL:https://thesabahsociety.com/event/beyond-the-jungle-a-journey-in-conservation/
LOCATION:The Sabah Society Secretariat\, Luyang\, Kota Kinabalu\, Sabah\, 88450\, Malaysia
CATEGORIES:Talks
ATTACH;FMTTYPE=image/jpeg:https://thesabahsociety.com/wp-content/uploads/2026/01/Yulinda-1.1.jpg
ORGANIZER;CN="The Sabah Society":MAILTO:sabahsoc@gmail.com
END:VEVENT
BEGIN:VEVENT
DTSTART;TZID=Asia/Shanghai:20260126T180000
DTEND;TZID=Asia/Shanghai:20260126T213000
DTSTAMP:20260420T020015
CREATED:20260112T055058Z
LAST-MODIFIED:20260113T004123Z
UID:2306-1769450400-1769463000@thesabahsociety.com
SUMMARY:Spiders of Borneo Book Launch
DESCRIPTION:A keen nature photographer\, specialising in the spiders\, insects and birds of Borneo\, Wong’s works have been used by various magazines and publications. He is currently a member of the Malaysian Nature Society-Bird Conservation Council Records Committee\, which assesses rare bird records for Malaysia. He authored A Naturalist Guide to the Birds of Borneo\, also published by John Beaufoy.
URL:https://thesabahsociety.com/event/book-launch-monday-26-jan-2025/
LOCATION:The Sabah Society Secretariat\, Luyang\, Kota Kinabalu\, Sabah\, 88450\, Malaysia
CATEGORIES:Book Launch,Talks
ATTACH;FMTTYPE=image/jpeg:https://thesabahsociety.com/wp-content/uploads/2026/01/IMG-20260112-WA0001.jpg
ORGANIZER;CN="The Sabah Society":MAILTO:sabahsoc@gmail.com
END:VEVENT
BEGIN:VEVENT
DTSTART;TZID=Asia/Shanghai:20260126T180000
DTEND;TZID=Asia/Shanghai:20260126T213000
DTSTAMP:20260420T020015
CREATED:20260113T004313Z
LAST-MODIFIED:20260113T004313Z
UID:2316-1769450400-1769463000@thesabahsociety.com
SUMMARY:Reptiles of Borneo Book Launch
DESCRIPTION:Indraneil Das is a Professor at the Institute of Biodiversity and Environmental Conservation\, Universiti Malaysia Sarawak. He has a DPhil from Oxford University and was a Fulbright Postdoctoral Fellow at the Museum of Comparative Zoology\, Harvard University. He has authored many books on reptiles and amphibians.
URL:https://thesabahsociety.com/event/reptiles-of-borneo-book-launch/
LOCATION:The Sabah Society Secretariat\, Luyang\, Kota Kinabalu\, Sabah\, 88450\, Malaysia
CATEGORIES:Book Launch,Talks
ATTACH;FMTTYPE=image/jpeg:https://thesabahsociety.com/wp-content/uploads/2026/01/IMG-20260112-WA0000.jpg
ORGANIZER;CN="The Sabah Society":MAILTO:sabahsoc@gmail.com
END:VEVENT
BEGIN:VEVENT
DTSTART;TZID=Asia/Shanghai:20260226T200000
DTEND;TZID=Asia/Shanghai:20260226T220000
DTSTAMP:20260420T020015
CREATED:20260129T015919Z
LAST-MODIFIED:20260129T015919Z
UID:2320-1772136000-1772143200@thesabahsociety.com
SUMMARY:Gourmet Tuhau: A Sabahan Delicacy
DESCRIPTION:From garden soil to shared stories\, Shernytta Poloi’s Gourmet Tuhau Sambal is more than a condiment. Rooted in Dusun village life in Tenghilan\, her cooking is a tribute to the stories she grew up listening to while preparing food in her family kitchen. She works closely with traditional ingredients sourced from her own garden and the local secrere(market). Inspired by stories shared during paddy harvesting\, her food carries memory and meaning. Through her Tuhau sambal\, Shernytta keeps Dusun food traditions alive in simple and thoughtful ways\, one jar at a time.
URL:https://thesabahsociety.com/event/gourmet-tuhau-a-sabahan-delicacy/
LOCATION:The Sabah Society Secretariat\, Luyang\, Kota Kinabalu\, Sabah\, 88450\, Malaysia
CATEGORIES:Talks
ATTACH;FMTTYPE=image/jpeg:https://thesabahsociety.com/wp-content/uploads/2026/01/Shern-Talk-2.0.jpg
ORGANIZER;CN="The Sabah Society":MAILTO:sabahsoc@gmail.com
END:VEVENT
BEGIN:VEVENT
DTSTART;TZID=Asia/Shanghai:20260307T200000
DTEND;TZID=Asia/Shanghai:20260307T220000
DTSTAMP:20260420T020015
CREATED:20260113T003754Z
LAST-MODIFIED:20260113T003807Z
UID:2312-1772913600-1772920800@thesabahsociety.com
SUMMARY:The Importance of Seagrass in Sabah
DESCRIPTION:Seagrass is often mistaken for seaweed\, but it is a completely different organism. Unlike seaweed\, seagrass is a marine flowering plant that thrives in shallow coastal waters. It plays a vital role in marine ecosystems by acting as a natural engineer of the seafloor\, providing essential habitats for countless marine species\, enhancing coastal protection against erosion\, and capturing and storing carbon. Beyond these functions\, seagrass contributes to water quality\, biodiversity\, and the overall health of our oceans. Come and learn how we can all play a part in protecting and conserving seagrass habitats.
URL:https://thesabahsociety.com/event/the-importance-of-seagrass-in-sabah-2/
LOCATION:The Sabah Society Secretariat\, Luyang\, Kota Kinabalu\, Sabah\, 88450\, Malaysia
CATEGORIES:Talks
ATTACH;FMTTYPE=image/jpeg:https://thesabahsociety.com/wp-content/uploads/2026/01/Michael-Yap-1.0.jpg
ORGANIZER;CN="The Sabah Society":MAILTO:sabahsoc@gmail.com
END:VEVENT
BEGIN:VEVENT
DTSTART;TZID=Asia/Shanghai:20260317T200000
DTEND;TZID=Asia/Shanghai:20260317T220000
DTSTAMP:20260420T020015
CREATED:20260313T020713Z
LAST-MODIFIED:20260313T020713Z
UID:2327-1773777600-1773784800@thesabahsociety.com
SUMMARY:The Borneo Graveyard: 1941–1945
DESCRIPTION:This book portrays the horrific story of Borneo during the Japanese occupation of 1941-1945. Thousands of Australian\, British\, Dutch and Indian POWs\, internees\, locals of Borneo and Javanese ramusha perished in Borneo during this period. Allied POWs\, who were sent to various POW camps in British and Dutch Borneo\, were to die of maltreatment\, malnutrition or execution. Many were forced to walk Death Marches in the jungle which came to a horrifying conclusion. This book is a tribute to the strength of character and bravery of those who endured the Japanese occupation.
URL:https://thesabahsociety.com/event/the-borneo-graveyard-1941-1945/
LOCATION:The Sabah Society Secretariat\, Luyang\, Kota Kinabalu\, Sabah\, 88450\, Malaysia
CATEGORIES:Talks
ATTACH;FMTTYPE=image/jpeg:https://thesabahsociety.com/wp-content/uploads/2026/03/John-Tulloch-2.0.jpg
ORGANIZER;CN="The Sabah Society":MAILTO:sabahsoc@gmail.com
END:VEVENT
BEGIN:VEVENT
DTSTART;TZID=Asia/Shanghai:20260424T200000
DTEND;TZID=Asia/Shanghai:20260424T220000
DTSTAMP:20260420T020015
CREATED:20260410T040607Z
LAST-MODIFIED:20260410T040619Z
UID:2334-1777060800-1777068000@thesabahsociety.com
SUMMARY:Birding in Sabah — Nenita Tan
DESCRIPTION:Join acclaimed photographer Nenita Tan for an immersive journey into birding in Sabah. Sabah is a global biodiversity hotspot\, home to over 600 bird species—from the iconic Great Argus to elusive endemics. Through her stunning lens\, Nenita shares the stories behind her most breathtaking shots\, practical field tips for avian photography\, and the raw beauty of Borneo’s rainforests. Whether you’re a birder or a shutterbug\, discover the magic of Sabah’s winged wonders.t
URL:https://thesabahsociety.com/event/birding-in-sabah-nenita-tan/
LOCATION:The Sabah Society Secretariat\, Luyang\, Kota Kinabalu\, Sabah\, 88450\, Malaysia
CATEGORIES:Talks
ATTACH;FMTTYPE=image/jpeg:https://thesabahsociety.com/wp-content/uploads/2026/04/Nenita-Tan-1.3.jpg
ORGANIZER;CN="The Sabah Society":MAILTO:sabahsoc@gmail.com
END:VEVENT
END:VCALENDAR