BEGIN:VCALENDAR
VERSION:2.0
PRODID:-//The Sabah Society - ECPv6.15.18//NONSGML v1.0//EN
CALSCALE:GREGORIAN
METHOD:PUBLISH
X-ORIGINAL-URL:https://thesabahsociety.com
X-WR-CALDESC:Events for The Sabah Society
REFRESH-INTERVAL;VALUE=DURATION:PT1H
X-Robots-Tag:noindex
X-PUBLISHED-TTL:PT1H
BEGIN:VTIMEZONE
TZID:Asia/Shanghai
BEGIN:STANDARD
TZOFFSETFROM:+0800
TZOFFSETTO:+0800
TZNAME:CST
DTSTART:20240101T000000
END:STANDARD
END:VTIMEZONE
BEGIN:VEVENT
DTSTART;TZID=Asia/Shanghai:20250619T200000
DTEND;TZID=Asia/Shanghai:20250619T220000
DTSTAMP:20260420T013158
CREATED:20250606T034733Z
LAST-MODIFIED:20250813T035728Z
UID:1560-1750363200-1750370400@thesabahsociety.com
SUMMARY:Symbolic Representation of Sabah
DESCRIPTION:Jared works closely with the Ministry of Tourism\, Art and Culture (MOTAC)\, the National Cultural Council (Majlis Kebudayaan Negara\, MAKEN) is an independent advisory council with the purpose to develop\, to grow and to empower the nation’s arts\, culture and heritage\, in accordance with the Dasar Kebudayaan Negara (DAKEN) 2021.\n\nJared aims to refine cultural perceptions of symbolic and artistic representation of Sabah. This talk is part of an ongoing effort to ensure appropriate cultural representation.
URL:https://thesabahsociety.com/event/symbolic-representation-of-sabah/
LOCATION:The Sabah Society Secretariat\, Luyang\, Kota Kinabalu\, Sabah\, 88450\, Malaysia
CATEGORIES:Talks
ATTACH;FMTTYPE=image/jpeg:https://thesabahsociety.com/wp-content/uploads/2025/06/Jared-Symbols-Talk-1.3.jpeg
ORGANIZER;CN="The Sabah Society":MAILTO:sabahsoc@gmail.com
END:VEVENT
END:VCALENDAR