BEGIN:VCALENDAR
VERSION:2.0
PRODID:-//The Sabah Society - ECPv6.15.18//NONSGML v1.0//EN
CALSCALE:GREGORIAN
METHOD:PUBLISH
X-WR-CALNAME:The Sabah Society
X-ORIGINAL-URL:https://thesabahsociety.com
X-WR-CALDESC:Events for The Sabah Society
REFRESH-INTERVAL;VALUE=DURATION:PT1H
X-Robots-Tag:noindex
X-PUBLISHED-TTL:PT1H
BEGIN:VTIMEZONE
TZID:Asia/Shanghai
BEGIN:STANDARD
TZOFFSETFROM:+0800
TZOFFSETTO:+0800
TZNAME:CST
DTSTART:20240101T000000
END:STANDARD
END:VTIMEZONE
BEGIN:VEVENT
DTSTART;TZID=Asia/Shanghai:20250221T200000
DTEND;TZID=Asia/Shanghai:20250221T213000
DTSTAMP:20260419T223737
CREATED:20250123T021825Z
LAST-MODIFIED:20250123T021825Z
UID:1520-1740168000-1740173400@thesabahsociety.com
SUMMARY:THE SETTLEMENT OF A LOWER LABUK KAMPUNG 1925-1975 | Dr Elizabeth Koepping
DESCRIPTION:Dr Elizabeth is an anthropologist who has studied and obtained cultural anthropology degrees from Edinburgh\, Manchester and Queensland and is trained in theology from Oxford. She taught anthropology and education in Queensland and Melbourne and then in Heidelberg\, Germany. Her PhD thesis was titled “Too Hot\, Too Cold\, Just Right: Social Relations in a Kadazan Village in Sabah\, Malaysia.” Her work in Sabah focuses on the culture of natives as well as the relationships between people in a domestic setting.
URL:https://thesabahsociety.com/event/the-settlement-of-a-lower-labuk-kampung-1925-1975-dr-elizabeth-koepping/
LOCATION:The Sabah Society Secretariat\, Luyang\, Kota Kinabalu\, Sabah\, 88450\, Malaysia
CATEGORIES:Talks
ATTACH;FMTTYPE=image/jpeg:https://thesabahsociety.com/wp-content/uploads/2025/01/WhatsApp-Image-2025-01-23-at-10.06.47-AM.jpeg
END:VEVENT
END:VCALENDAR