BEGIN:VCALENDAR
VERSION:2.0
PRODID:-//The Sabah Society - ECPv6.15.18//NONSGML v1.0//EN
CALSCALE:GREGORIAN
METHOD:PUBLISH
X-WR-CALNAME:The Sabah Society
X-ORIGINAL-URL:https://thesabahsociety.com
X-WR-CALDESC:Events for The Sabah Society
REFRESH-INTERVAL;VALUE=DURATION:PT1H
X-Robots-Tag:noindex
X-PUBLISHED-TTL:PT1H
BEGIN:VTIMEZONE
TZID:Asia/Shanghai
BEGIN:STANDARD
TZOFFSETFROM:+0800
TZOFFSETTO:+0800
TZNAME:CST
DTSTART:20240101T000000
END:STANDARD
END:VTIMEZONE
BEGIN:VEVENT
DTSTART;TZID=Asia/Shanghai:20250116T183000
DTEND;TZID=Asia/Shanghai:20250116T203000
DTSTAMP:20260419T204444
CREATED:20250113T025024Z
LAST-MODIFIED:20250113T025024Z
UID:1516-1737052200-1737059400@thesabahsociety.com
SUMMARY:Members Night | Thur 16 Jan 2025 @ 6.30PM
DESCRIPTION:It’s time to celebrate you! Join us on TSS Member’s Night for a santai makan as our President\, Edwin Liew\, will be sharing his journey through the Trans-Siberian Railway! There will be light meals prepared for everyone. Do come to the Sabah Society Secretariat this coming January 16\, 2025\, Thursday!\n\nLet us know if you are joining so the food is enough ✨🙏🏽🫶🏼 013-8809850
URL:https://thesabahsociety.com/event/members-night-thur-16-jan-2025-6-30pm/
LOCATION:The Sabah Society Secretariat\, Luyang\, Kota Kinabalu\, Sabah\, 88450\, Malaysia
CATEGORIES:Talks
ATTACH;FMTTYPE=image/jpeg:https://thesabahsociety.com/wp-content/uploads/2025/01/IMG-20250112-WA0002.jpg
END:VEVENT
END:VCALENDAR