BEGIN:VCALENDAR
VERSION:2.0
PRODID:-//The Sabah Society - ECPv6.15.18//NONSGML v1.0//EN
CALSCALE:GREGORIAN
METHOD:PUBLISH
X-WR-CALNAME:The Sabah Society
X-ORIGINAL-URL:https://thesabahsociety.com
X-WR-CALDESC:Events for The Sabah Society
REFRESH-INTERVAL;VALUE=DURATION:PT1H
X-Robots-Tag:noindex
X-PUBLISHED-TTL:PT1H
BEGIN:VTIMEZONE
TZID:Asia/Shanghai
BEGIN:STANDARD
TZOFFSETFROM:+0800
TZOFFSETTO:+0800
TZNAME:CST
DTSTART:20230101T000000
END:STANDARD
END:VTIMEZONE
BEGIN:VEVENT
DTSTART;TZID=Asia/Shanghai:20241120T200000
DTEND;TZID=Asia/Shanghai:20241120T210000
DTSTAMP:20260419T204516
CREATED:20241120T093457Z
LAST-MODIFIED:20241120T093457Z
UID:1486-1732132800-1732136400@thesabahsociety.com
SUMMARY:The diaries of Alexander Rankin Johnstone Dunlop\, 1897 - 1907  |  Stella Moo-Tan
DESCRIPTION:Arguably the youngest cadet to serve in the British North Borneo Chartered Company\, AR Dunlop’s life and 46-year career in British North Borneo is extraordinary to say the least. His diaries give us a glimpse of the early part of the British administration where among other things\, he was involved in the pursuit of Mat Salleh who posed the most serious challenge to British rule.\n\nHis diaries are also infused with sketches of many local people and places\, showing Dunlop’s artistic talent.\n\n 
URL:https://thesabahsociety.com/event/the-diaries-of-alexander-rankin-johnstone-dunlop-1897-1907-stella-moo-tan/
LOCATION:The Sabah Society Secretariat\, Luyang\, Kota Kinabalu\, Sabah\, 88450\, Malaysia
CATEGORIES:Talks
ATTACH;FMTTYPE=image/jpeg:https://thesabahsociety.com/wp-content/uploads/2024/11/WhatsApp-Image-2024-11-17-at-4.41.30-AM.jpeg
END:VEVENT
END:VCALENDAR