BEGIN:VCALENDAR
VERSION:2.0
PRODID:-//The Sabah Society - ECPv6.15.18//NONSGML v1.0//EN
CALSCALE:GREGORIAN
METHOD:PUBLISH
X-WR-CALNAME:The Sabah Society
X-ORIGINAL-URL:https://thesabahsociety.com
X-WR-CALDESC:Events for The Sabah Society
REFRESH-INTERVAL;VALUE=DURATION:PT1H
X-Robots-Tag:noindex
X-PUBLISHED-TTL:PT1H
BEGIN:VTIMEZONE
TZID:Asia/Shanghai
BEGIN:STANDARD
TZOFFSETFROM:+0800
TZOFFSETTO:+0800
TZNAME:CST
DTSTART:20230101T000000
END:STANDARD
END:VTIMEZONE
BEGIN:VEVENT
DTSTART;TZID=Asia/Shanghai:20240817T160000
DTEND;TZID=Asia/Shanghai:20240817T180000
DTSTAMP:20260420T012515
CREATED:20240811T180024Z
LAST-MODIFIED:20240812T025618Z
UID:1470-1723910400-1723917600@thesabahsociety.com
SUMMARY:Podcast - What's the story of our History? | Sat 17 Aug 2024 | 4-6PM
DESCRIPTION:Podcast launch and live podcast recording!\n\nHost – Chris Pereira\n\nGuests – Mohd Shari and Avtar Singh\n\nEpisode 1 – The historical aspect of the Sulu claim\n\nLimited to 20 paxs
URL:https://thesabahsociety.com/event/podcast-whats-the-story-of-our-history-sat-17-aug-2024-4-6pm/
LOCATION:The Sabah Society Secretariat\, Luyang\, Kota Kinabalu\, Sabah\, 88450\, Malaysia
CATEGORIES:Podcast
ATTACH;FMTTYPE=image/jpeg:https://thesabahsociety.com/wp-content/uploads/2024/08/WhatsApp-Image-2024-08-05-at-14.10.31.jpeg
END:VEVENT
END:VCALENDAR